BEGIN:VCALENDAR
VERSION:2.0
PRODID:-//CERN//INDICO//EN
BEGIN:VEVENT
SUMMARY:Charlas sobre análisis en el grupo Silicio
DTSTART;VALUE=DATE-TIME:20070924T090000Z
DTEND;VALUE=DATE-TIME:20070924T095000Z
DTSTAMP;VALUE=DATE-TIME:20260424T055240Z
UID:indico-contribution-2385@indico.ific.uv.es
DESCRIPTION:Speakers: Carlos Escobar (Instituto de Fisica Corpuscular (IFI
 C) UV-CSIC)\, Sergio Gonzalez Sevilla (IFIC)\, Vasiliki Mitsou ()\nhttps:/
 /indico.ific.uv.es/event/24/contributions/2385/
LOCATION:Seminario del IFIC
URL:https://indico.ific.uv.es/event/24/contributions/2385/
END:VEVENT
END:VCALENDAR
