BEGIN:VCALENDAR
VERSION:2.0
PRODID:-//CERN//INDICO//EN
BEGIN:VEVENT
SUMMARY:Charlas sobre análisis del grupo Tilecal
DTSTART;VALUE=DATE-TIME:20070924T102000Z
DTEND;VALUE=DATE-TIME:20070924T112000Z
DTSTAMP;VALUE=DATE-TIME:20260424T114700Z
UID:indico-contribution-2384@indico.ific.uv.es
DESCRIPTION:Speakers: Bruce Mellado (IFIC-Wisconsin)\nhttps://indico.ific.
 uv.es/event/24/contributions/2384/
LOCATION:Seminario del IFIC
URL:https://indico.ific.uv.es/event/24/contributions/2384/
END:VEVENT
END:VCALENDAR
