BEGIN:VCALENDAR
VERSION:2.0
PRODID:-//CERN//INDICO//EN
BEGIN:VEVENT
SUMMARY:El Tier3 del IFIC y el grupo Tier3 del CERN
DTSTART;VALUE=DATE-TIME:20070924T072000Z
DTEND;VALUE=DATE-TIME:20070924T082000Z
DTSTAMP;VALUE=DATE-TIME:20260424T055239Z
UID:indico-contribution-2383@indico.ific.uv.es
DESCRIPTION:Speakers: Santiago Gonzalez de la Hoz (IFIC)\nhttps://indico.i
 fic.uv.es/event/24/contributions/2383/
LOCATION:Seminario del IFIC
URL:https://indico.ific.uv.es/event/24/contributions/2383/
END:VEVENT
END:VCALENDAR
