BEGIN:VCALENDAR
VERSION:2.0
PRODID:-//CERN//INDICO//EN
BEGIN:VEVENT
SUMMARY:Introducción I
DTSTART;VALUE=DATE-TIME:20070924T070000Z
DTEND;VALUE=DATE-TIME:20070924T071000Z
DTSTAMP;VALUE=DATE-TIME:20260420T182312Z
UID:indico-contribution-2381@indico.ific.uv.es
DESCRIPTION:Speakers: Antonio Ferrer Soria (IFIC)\nhttps://indico.ific.uv.
 es/event/24/contributions/2381/
LOCATION:Seminario del IFIC
URL:https://indico.ific.uv.es/event/24/contributions/2381/
END:VEVENT
END:VCALENDAR
