BEGIN:VCALENDAR
VERSION:2.0
PRODID:-//CERN//INDICO//EN
BEGIN:VEVENT
SUMMARY:Introducción II
DTSTART;VALUE=DATE-TIME:20070924T071000Z
DTEND;VALUE=DATE-TIME:20070924T072000Z
DTSTAMP;VALUE=DATE-TIME:20260424T055237Z
UID:indico-contribution-2380@indico.ific.uv.es
DESCRIPTION:Speakers: Juan Antonio Fuster Verdu (IFIC (Instituto de Fisica
  Corpuscular))\nhttps://indico.ific.uv.es/event/24/contributions/2380/
LOCATION:Seminario del IFIC
URL:https://indico.ific.uv.es/event/24/contributions/2380/
END:VEVENT
END:VCALENDAR
