BEGIN:VCALENDAR
VERSION:2.0
PRODID:-//CERN//INDICO//EN
BEGIN:VEVENT
SUMMARY:Nuevas tareas y Otros (espacios\, vacaciones\, etc.)
DTSTART;VALUE=DATE-TIME:20091210T103000Z
DTEND;VALUE=DATE-TIME:20091210T111500Z
DTSTAMP;VALUE=DATE-TIME:20260422T062040Z
UID:indico-contribution-2244@indico.ific.uv.es
DESCRIPTION:https://indico.ific.uv.es/event/233/contributions/2244/
LOCATION:Edificio de Laboratorios 119
URL:https://indico.ific.uv.es/event/233/contributions/2244/
END:VEVENT
END:VCALENDAR
