BEGIN:VCALENDAR
VERSION:2.0
PRODID:-//CERN//INDICO//EN
BEGIN:VEVENT
SUMMARY:The Hu-Sawicki model of modified gravity
DTSTART;VALUE=DATE-TIME:20140911T130000Z
DTEND;VALUE=DATE-TIME:20140911T140000Z
DTSTAMP;VALUE=DATE-TIME:20260420T100336Z
UID:indico-event-2287@indico.ific.uv.es
DESCRIPTION:Tutora: Olga Mena Requejo\n\nhttps://indico.ific.uv.es/event/2
 287/
LOCATION:Campus Burjassot 4-4-4426 - Seminari Física Teòrica
URL:https://indico.ific.uv.es/event/2287/
END:VEVENT
END:VCALENDAR
