BEGIN:VCALENDAR
VERSION:2.0
PRODID:-//CERN//INDICO//EN
BEGIN:VEVENT
SUMMARY:Estudio del proceso electrón-positrón a top-antitop con correcci
 ones electrodébiles
DTSTART;VALUE=DATE-TIME:20140715T135000Z
DTEND;VALUE=DATE-TIME:20140715T145000Z
DTSTAMP;VALUE=DATE-TIME:20260423T132614Z
UID:indico-event-2251@indico.ific.uv.es
DESCRIPTION:\n    Tutores: Pedro Ruiz Femenía / Antonio Pich Zardoya\n\nh
 ttps://indico.ific.uv.es/event/2251/
LOCATION:Campus Burjassot 4-4-4426 - Seminari Física Teòrica
URL:https://indico.ific.uv.es/event/2251/
END:VEVENT
END:VCALENDAR
