BEGIN:VCALENDAR
VERSION:2.0
PRODID:-//CERN//INDICO//EN
BEGIN:VEVENT
SUMMARY:New methods in extended Palatini gravity and nonlinear electrodyna
 mics
DTSTART;VALUE=DATE-TIME:20140715T130000Z
DTEND;VALUE=DATE-TIME:20140715T135000Z
DTSTAMP;VALUE=DATE-TIME:20260420T215537Z
UID:indico-event-2250@indico.ific.uv.es
DESCRIPTION:Tutor: Gonzalo J. Olmo Alba\n\nhttps://indico.ific.uv.es/event
 /2250/
LOCATION:Campus Burjassot 4-4-4426 - Seminari Física Teòrica
URL:https://indico.ific.uv.es/event/2250/
END:VEVENT
END:VCALENDAR
