BEGIN:VCALENDAR
VERSION:2.0
PRODID:-//CERN//INDICO//EN
BEGIN:VEVENT
SUMMARY:Efectos de decoherencia en el experimento de Stern-Gerlach
DTSTART;VALUE=DATE-TIME:20140911T073000Z
DTEND;VALUE=DATE-TIME:20140911T081500Z
DTSTAMP;VALUE=DATE-TIME:20260424T120122Z
UID:indico-event-2234@indico.ific.uv.es
DESCRIPTION:Tutor: Armando Pérez Cañellas\n\nhttps://indico.ific.uv.es/e
 vent/2234/
LOCATION:Campus Burjassot 4-4-4426 - Seminari Física Teòrica
URL:https://indico.ific.uv.es/event/2234/
END:VEVENT
END:VCALENDAR
