BEGIN:VCALENDAR
VERSION:2.0
PRODID:-//CERN//INDICO//EN
BEGIN:VEVENT
SUMMARY:The Search for Dark Matter
DTSTART;VALUE=DATE-TIME:20131211T113000Z
DTEND;VALUE=DATE-TIME:20131211T123000Z
DTSTAMP;VALUE=DATE-TIME:20260420T100348Z
UID:indico-event-2011@indico.ific.uv.es
DESCRIPTION:I will review recent developments and experimental techniques 
 used to search for direct dark matter interactions in highly-specialized p
 article detectors. We will pay particular attention to recent hints of a p
 ossible signal\, and claims to the contrary. The many uncertainties affect
 ing this type of search will be discussed\, as well as possible routes to 
 eventually resolve these.\n\nhttps://indico.ific.uv.es/event/2011/
LOCATION:Parc Científic Salón de Actos
URL:https://indico.ific.uv.es/event/2011/
END:VEVENT
END:VCALENDAR
