BEGIN:VCALENDAR
VERSION:2.0
PRODID:-//CERN//INDICO//EN
BEGIN:VEVENT
SUMMARY:Introduction and welcome by IVICFA Chairman
DTSTART;VALUE=DATE-TIME:20131025T070000Z
DTEND;VALUE=DATE-TIME:20131025T070500Z
DTSTAMP;VALUE=DATE-TIME:20260421T023328Z
UID:indico-contribution-622@indico.ific.uv.es
DESCRIPTION:Speakers: Jose Bernabeu ()\nhttps://indico.ific.uv.es/event/19
 83/contributions/622/
LOCATION:Universe
URL:https://indico.ific.uv.es/event/1983/contributions/622/
END:VEVENT
END:VCALENDAR
