BEGIN:VCALENDAR
VERSION:2.0
PRODID:-//CERN//INDICO//EN
BEGIN:VEVENT
SUMMARY:GERDA and the search for neutrinoless double beta decay - First re
 sults and perspectives
DTSTART;VALUE=DATE-TIME:20131025T123000Z
DTEND;VALUE=DATE-TIME:20131025T125500Z
DTSTAMP;VALUE=DATE-TIME:20260422T105313Z
UID:indico-contribution-619@indico.ific.uv.es
DESCRIPTION:Speakers: Matteo Agostini (Technische Universität München)\n
 https://indico.ific.uv.es/event/1983/contributions/619/
LOCATION:Universe
URL:https://indico.ific.uv.es/event/1983/contributions/619/
END:VEVENT
END:VCALENDAR
