BEGIN:VCALENDAR
VERSION:2.0
PRODID:-//CERN//INDICO//EN
BEGIN:VEVENT
SUMMARY:Effective three-body forces in neutron-rich lead isotopes
DTSTART;VALUE=DATE-TIME:20131025T133000Z
DTEND;VALUE=DATE-TIME:20131025T135500Z
DTSTAMP;VALUE=DATE-TIME:20260424T131154Z
UID:indico-contribution-618@indico.ific.uv.es
DESCRIPTION:Speakers: Andrea Gottardo (INFN-Legnaro & IPN-Orsay)\nhttps://
 indico.ific.uv.es/event/1983/contributions/618/
LOCATION:Universe
URL:https://indico.ific.uv.es/event/1983/contributions/618/
END:VEVENT
END:VCALENDAR
