BEGIN:VCALENDAR
VERSION:2.0
PRODID:-//CERN//INDICO//EN
BEGIN:VEVENT
SUMMARY:Evidence for astrophysical neutrino signal in IceCube
DTSTART;VALUE=DATE-TIME:20131025T085000Z
DTEND;VALUE=DATE-TIME:20131025T092500Z
DTSTAMP;VALUE=DATE-TIME:20260424T131153Z
UID:indico-contribution-616@indico.ific.uv.es
DESCRIPTION:Speakers: Juan Antonio Aguilar (Université de Genève)\nhttps
 ://indico.ific.uv.es/event/1983/contributions/616/
LOCATION:Universe
URL:https://indico.ific.uv.es/event/1983/contributions/616/
END:VEVENT
END:VCALENDAR
