BEGIN:VCALENDAR
VERSION:2.0
PRODID:-//CERN//INDICO//EN
BEGIN:VEVENT
SUMMARY:The NUSTAR facility at FAIR
DTSTART;VALUE=DATE-TIME:20131025T070500Z
DTEND;VALUE=DATE-TIME:20131025T074000Z
DTSTAMP;VALUE=DATE-TIME:20260421T023317Z
UID:indico-contribution-615@indico.ific.uv.es
DESCRIPTION:Speakers: Zsolt Podolyak (University of Surrey)\nhttps://indic
 o.ific.uv.es/event/1983/contributions/615/
LOCATION:Universe
URL:https://indico.ific.uv.es/event/1983/contributions/615/
END:VEVENT
END:VCALENDAR
