BEGIN:VCALENDAR
VERSION:2.0
PRODID:-//CERN//INDICO//EN
BEGIN:VEVENT
SUMMARY:Charlas CPAN 2013-2014 en IES de Asturias y León: Descubriendo un
 a nueva partícula en el LHC: el bosón de Higgs
DTSTART;VALUE=DATE-TIME:20131001T070000Z
DTEND;VALUE=DATE-TIME:20140531T150000Z
DTSTAMP;VALUE=DATE-TIME:20260420T111055Z
UID:indico-event-1948@indico.ific.uv.es
DESCRIPTION:\n    El Centro Nacional de Física de Partículas\, Astropart
 ículas y Nuclear (CPAN) y sus centros participantes ofrecen una serie de 
 charlas divulgativas a demanda para Institutos de Educación Secundaria. U
 n completo recorrido por unas disciplinas científicas situadas en la fron
 tera del conocimiento humano\, que buscan la respuesta a las preguntas ese
 nciales: ¿de qué están hechas las cosas? ¿Cómo se formó el Universo 
 donde vivimos? ¿Y la materia que nos compone? ¿Cómo evolucionará el Un
 iverso? ¿Podemos mejorar nuestro aprovechamiento de la energía? ¿Y util
 izar nuestro conocimiento para mejorar el diagnóstico de enfermedades? Lo
 s temas de las conferencias abarcan los ámbitos donde trabajan los grupos
  de investigación del CPAN: la Física Experimental de Altas Energías y 
 el LHC\, el mayor acelerador de partículas del mundo que trata de desvela
 r cuestiones fundamentales como el origen de la masa o la existencia de pa
 rtículas supersimétricas\; las teorías sobre el origen y final del Univ
 erso realizadas por los experimentos que se realizan en Física de Astropa
 rtículas\; las investigaciones más actuales en Física Nuclear\, relacio
 nadas con sus aplicaciones en diagnóstico y terapia médica o en energía
 \; y las bases teóricas de todo esto\, la Teoría de la Relatividad de Ei
 nstein... Esta actividad se desarrolla hasta el final del curso. Este regi
 stro es para las charlas:\n\n    El descubrimiento de una nueva partícula
  fundamental: el bosón de Higgs\n\n    En julio de 2012 las colaboracione
 s expermientales ATLAS y CMS que operan en el acelerador LHC del CERN desc
 ubrieron una nueva partícula. Este resultado es el final de una larga tar
 ea de más de 20 años empleados en el diseño\, construcción y puesta en
  marcha del instrumento científico más grande y complejo de la historia.
  Es también el comienzo de unos años emocionantes que se dedicarán a ex
 plorar las propiedades de esta nueva partícula para ver si se trata del t
 an deseado bosón de Higgs que explicaría el origen de la masa del resto 
 de las partículas fundamentales. Además\, los experimentos del LHC segui
 rá tratando de desvelar algunos de los misterios del universo: La composi
 ción de la materia oscura\, la existencia de más dimensiones\, la asimet
 ría entre materia y antimateria\,...\n\n     \n\n    El Grupo de Física
  Experimental de Altas Energías de la Universidad de Oviedo ha participad
 o y participa en este gran reto científico. Alguno de sus miembros mostra
 rá en una presentación las cuestiones básicas en física de partículas
 \, las características singulares de los instrumentos científcos necesar
 ios para la investigación así como las aplicaciones prácticas que este 
 tipo de investigación proporciona a la sociedad. Público: Estudiantes de
  ESO y bachillerato.\n\nhttps://indico.ific.uv.es/event/1948/
LOCATION:Oviedo
URL:https://indico.ific.uv.es/event/1948/
END:VEVENT
END:VCALENDAR
