BEGIN:VCALENDAR
VERSION:2.0
PRODID:-//CERN//INDICO//EN
BEGIN:VEVENT
SUMMARY:AOB
DTSTART;VALUE=DATE-TIME:20070706T100000Z
DTEND;VALUE=DATE-TIME:20070706T102000Z
DTSTAMP;VALUE=DATE-TIME:20260420T104306Z
UID:indico-contribution-364@indico.ific.uv.es
DESCRIPTION:Speakers: Emilio Higón ()\, Juan A. Valls (IFIC)\nhttps://ind
 ico.ific.uv.es/event/17/contributions/364/
LOCATION:IFIC-CERN
URL:https://indico.ific.uv.es/event/17/contributions/364/
END:VEVENT
END:VCALENDAR
