BEGIN:VCALENDAR
VERSION:2.0
PRODID:-//CERN//INDICO//EN
BEGIN:VEVENT
SUMMARY:Analysis topics: Higgs to taus\, muons\, exotics
DTSTART;VALUE=DATE-TIME:20070706T091500Z
DTEND;VALUE=DATE-TIME:20070706T093500Z
DTSTAMP;VALUE=DATE-TIME:20260420T104306Z
UID:indico-contribution-363@indico.ific.uv.es
DESCRIPTION:Speakers: Bruce Mellado (Wisconsin - IFIC)\nhttps://indico.ifi
 c.uv.es/event/17/contributions/363/
LOCATION:IFIC-CERN
URL:https://indico.ific.uv.es/event/17/contributions/363/
END:VEVENT
END:VCALENDAR
