BEGIN:VCALENDAR
VERSION:2.0
PRODID:-//CERN//INDICO//EN
BEGIN:VEVENT
SUMMARY:LVL2 Low Pt Muon Trigger Status
DTSTART;VALUE=DATE-TIME:20070706T090000Z
DTEND;VALUE=DATE-TIME:20070706T091500Z
DTSTAMP;VALUE=DATE-TIME:20260422T024530Z
UID:indico-contribution-362@indico.ific.uv.es
DESCRIPTION:Speakers: Arantxa Ruiz (IFIC)\nhttps://indico.ific.uv.es/event
 /17/contributions/362/
LOCATION:IFIC-CERN
URL:https://indico.ific.uv.es/event/17/contributions/362/
END:VEVENT
END:VCALENDAR
