BEGIN:VCALENDAR
VERSION:2.0
PRODID:-//CERN//INDICO//EN
BEGIN:VEVENT
SUMMARY:Athena OF Status & PileUp Studies
DTSTART;VALUE=DATE-TIME:20070706T084500Z
DTEND;VALUE=DATE-TIME:20070706T090000Z
DTSTAMP;VALUE=DATE-TIME:20260420T104317Z
UID:indico-contribution-361@indico.ific.uv.es
DESCRIPTION:Speakers: Ximo Poveda (IFIC)\nhttps://indico.ific.uv.es/event/
 17/contributions/361/
LOCATION:IFIC-CERN
URL:https://indico.ific.uv.es/event/17/contributions/361/
END:VEVENT
END:VCALENDAR
