BEGIN:VCALENDAR
VERSION:2.0
PRODID:-//CERN//INDICO//EN
BEGIN:VEVENT
SUMMARY:Pre-ROD Status
DTSTART;VALUE=DATE-TIME:20070706T083000Z
DTEND;VALUE=DATE-TIME:20070706T084500Z
DTSTAMP;VALUE=DATE-TIME:20260422T024539Z
UID:indico-contribution-360@indico.ific.uv.es
DESCRIPTION:Speakers: Albert Valero (IFIC)\nhttps://indico.ific.uv.es/even
 t/17/contributions/360/
LOCATION:IFIC-CERN
URL:https://indico.ific.uv.es/event/17/contributions/360/
END:VEVENT
END:VCALENDAR
