BEGIN:VCALENDAR
VERSION:2.0
PRODID:-//CERN//INDICO//EN
BEGIN:VEVENT
SUMMARY:TDAQ Commissioning - Team 4 Status
DTSTART;VALUE=DATE-TIME:20070706T081500Z
DTEND;VALUE=DATE-TIME:20070706T083000Z
DTSTAMP;VALUE=DATE-TIME:20260422T024538Z
UID:indico-contribution-359@indico.ific.uv.es
DESCRIPTION:Speakers: Carlos Solans (IFIC)\nhttps://indico.ific.uv.es/even
 t/17/contributions/359/
LOCATION:IFIC-CERN
URL:https://indico.ific.uv.es/event/17/contributions/359/
END:VEVENT
END:VCALENDAR
