BEGIN:VCALENDAR
VERSION:2.0
PRODID:-//CERN//INDICO//EN
BEGIN:VEVENT
SUMMARY:Status at CERN - Commissioning
DTSTART;VALUE=DATE-TIME:20070706T080000Z
DTEND;VALUE=DATE-TIME:20070706T081500Z
DTSTAMP;VALUE=DATE-TIME:20260421T133008Z
UID:indico-contribution-358@indico.ific.uv.es
DESCRIPTION:Speakers: Jalal Abdallah (IFIC)\nhttps://indico.ific.uv.es/eve
 nt/17/contributions/358/
LOCATION:IFIC-CERN
URL:https://indico.ific.uv.es/event/17/contributions/358/
END:VEVENT
END:VCALENDAR
