BEGIN:VCALENDAR
VERSION:2.0
PRODID:-//CERN//INDICO//EN
BEGIN:VEVENT
SUMMARY:b-tagging
DTSTART;VALUE=DATE-TIME:20070510T080000Z
DTEND;VALUE=DATE-TIME:20070510T082000Z
DTSTAMP;VALUE=DATE-TIME:20260421T011834Z
UID:indico-contribution-237@indico.ific.uv.es
DESCRIPTION:Speakers: Marcel Vos ()\nhttps://indico.ific.uv.es/event/15/co
 ntributions/237/
LOCATION:
URL:https://indico.ific.uv.es/event/15/contributions/237/
END:VEVENT
END:VCALENDAR
