BEGIN:VCALENDAR
VERSION:2.0
PRODID:-//CERN//INDICO//EN
BEGIN:VEVENT
SUMMARY:Exotic physics with tops
DTSTART;VALUE=DATE-TIME:20081119T070000Z
DTEND;VALUE=DATE-TIME:20081119T072000Z
DTSTAMP;VALUE=DATE-TIME:20260421T035127Z
UID:indico-contribution-235@indico.ific.uv.es
DESCRIPTION:https://indico.ific.uv.es/event/148/contributions/235/
LOCATION:
URL:https://indico.ific.uv.es/event/148/contributions/235/
END:VEVENT
END:VCALENDAR
