BEGIN:VCALENDAR
VERSION:2.0
PRODID:-//CERN//INDICO//EN
BEGIN:VEVENT
SUMMARY:QCD fake rates
DTSTART;VALUE=DATE-TIME:20081120T070000Z
DTEND;VALUE=DATE-TIME:20081120T072000Z
DTSTAMP;VALUE=DATE-TIME:20260420T150713Z
UID:indico-contribution-234@indico.ific.uv.es
DESCRIPTION:Speakers: Teresa Perez (IFIC-CSIC)\nhttps://indico.ific.uv.es/
 event/148/contributions/234/
LOCATION:
URL:https://indico.ific.uv.es/event/148/contributions/234/
END:VEVENT
END:VCALENDAR
