BEGIN:VCALENDAR
VERSION:2.0
PRODID:-//CERN//INDICO//EN
BEGIN:VEVENT
SUMMARY:MC generation for KK gluons
DTSTART;VALUE=DATE-TIME:20081104T150000Z
DTEND;VALUE=DATE-TIME:20081104T152000Z
DTSTAMP;VALUE=DATE-TIME:20260422T024554Z
UID:indico-contribution-233@indico.ific.uv.es
DESCRIPTION:Speakers: marcel vos (IFIC Valencia)\nhttps://indico.ific.uv.e
 s/event/148/contributions/233/
LOCATION:
URL:https://indico.ific.uv.es/event/148/contributions/233/
END:VEVENT
END:VCALENDAR
