BEGIN:VCALENDAR
VERSION:2.0
PRODID:-//CERN//INDICO//EN
BEGIN:VEVENT
SUMMARY:e-Science infrastructure (Tier2 & Tier3) for high energy physics a
 nalysis
DTSTART;VALUE=DATE-TIME:20081003T060000Z
DTEND;VALUE=DATE-TIME:20081003T062000Z
DTSTAMP;VALUE=DATE-TIME:20260420T104305Z
UID:indico-contribution-197@indico.ific.uv.es
DESCRIPTION:Speakers: Santiago Gonzalez de la Hoz (IFIC)\nhttps://indico.i
 fic.uv.es/event/138/contributions/197/
LOCATION:
URL:https://indico.ific.uv.es/event/138/contributions/197/
END:VEVENT
END:VCALENDAR
