BEGIN:VCALENDAR
VERSION:2.0
PRODID:-//CERN//INDICO//EN
BEGIN:VEVENT
SUMMARY:Global analysis of single beam and cosmic data
DTSTART;VALUE=DATE-TIME:20081003T062000Z
DTEND;VALUE=DATE-TIME:20081003T064000Z
DTSTAMP;VALUE=DATE-TIME:20260423T220440Z
UID:indico-contribution-196@indico.ific.uv.es
DESCRIPTION:Speakers: Maria Moreno Llacer (IFIC (CSIC-UV))\nhttps://indico
 .ific.uv.es/event/138/contributions/196/
LOCATION:
URL:https://indico.ific.uv.es/event/138/contributions/196/
END:VEVENT
END:VCALENDAR
