BEGIN:VCALENDAR
VERSION:2.0
PRODID:-//CERN//INDICO//EN
BEGIN:VEVENT
SUMMARY:Exotic physics with tops
DTSTART;VALUE=DATE-TIME:20080815T060000Z
DTEND;VALUE=DATE-TIME:20080815T062000Z
DTSTAMP;VALUE=DATE-TIME:20260420T182319Z
UID:indico-contribution-195@indico.ific.uv.es
DESCRIPTION:Speakers: Marcel vos (IFIC Valencia)\nhttps://indico.ific.uv.e
 s/event/138/contributions/195/
LOCATION:
URL:https://indico.ific.uv.es/event/138/contributions/195/
END:VEVENT
END:VCALENDAR
