BEGIN:VCALENDAR
VERSION:2.0
PRODID:-//CERN//INDICO//EN
BEGIN:VEVENT
SUMMARY:Tier3 meeting
DTSTART;VALUE=DATE-TIME:20080722T060000Z
DTEND;VALUE=DATE-TIME:20080722T160000Z
DTSTAMP;VALUE=DATE-TIME:20260420T100341Z
UID:indico-event-129@indico.ific.uv.es
DESCRIPTION:https://indico.ific.uv.es/event/129/
LOCATION:
URL:https://indico.ific.uv.es/event/129/
END:VEVENT
END:VCALENDAR
