BEGIN:VCALENDAR
VERSION:2.0
PRODID:-//CERN//INDICO//EN
BEGIN:VEVENT
SUMMARY:TTbar resonance with early data
DTSTART;VALUE=DATE-TIME:20080722T060000Z
DTEND;VALUE=DATE-TIME:20080722T062000Z
DTSTAMP;VALUE=DATE-TIME:20260422T155717Z
UID:indico-contribution-161@indico.ific.uv.es
DESCRIPTION:Speakers: marcel vos (IFIC Valencia)\nhttps://indico.ific.uv.e
 s/event/129/contributions/161/
LOCATION:
URL:https://indico.ific.uv.es/event/129/contributions/161/
END:VEVENT
END:VCALENDAR
