BEGIN:VCALENDAR
VERSION:2.0
PRODID:-//CERN//INDICO//EN
BEGIN:VEVENT
SUMMARY:LA ESTRUCTURA DEL PROTON Y LA FISICA EN EL LHC
DTSTART;VALUE=DATE-TIME:20080527T073000Z
DTEND;VALUE=DATE-TIME:20080527T081000Z
DTSTAMP;VALUE=DATE-TIME:20260424T024854Z
UID:indico-contribution-99@indico.ific.uv.es
DESCRIPTION:Speakers: FERNANDO BARREIRO ALONSO ()\nhttps://indico.ific.uv.
 es/event/121/contributions/99/
LOCATION:Consejo Superior de Investigaciones Científicas Instituto de Óp
 tica Daza de Valdés - Seminario
URL:https://indico.ific.uv.es/event/121/contributions/99/
END:VEVENT
END:VCALENDAR
