BEGIN:VCALENDAR
VERSION:2.0
PRODID:-//CERN//INDICO//EN
BEGIN:VEVENT
SUMMARY:Affleck-Dine Baryogenesis\, Supergravity and Superstrings
DTSTART;VALUE=DATE-TIME:19970925T103000Z
DTEND;VALUE=DATE-TIME:19970925T113000Z
DTSTAMP;VALUE=DATE-TIME:20260421T110247Z
UID:indico-event-1048@indico.ific.uv.es
DESCRIPTION:https://indico.ific.uv.es/event/1048/
LOCATION:Dpto. de Fisica Teorica (UVEG) Sala Seminarios
URL:https://indico.ific.uv.es/event/1048/
END:VEVENT
END:VCALENDAR
